BEGIN:VCALENDAR
VERSION:2.0
PRODID:-//Musikschule Wermelskirchen - ECPv6.8.3//NONSGML v1.0//EN
CALSCALE:GREGORIAN
METHOD:PUBLISH
X-WR-CALNAME:Musikschule Wermelskirchen
X-ORIGINAL-URL:https://www.musikschule-wermelskirchen.de
X-WR-CALDESC:Veranstaltungen für Musikschule Wermelskirchen
REFRESH-INTERVAL;VALUE=DURATION:PT1H
X-Robots-Tag:noindex
X-PUBLISHED-TTL:PT1H
BEGIN:VTIMEZONE
TZID:Europe/Berlin
BEGIN:DAYLIGHT
TZOFFSETFROM:+0100
TZOFFSETTO:+0200
TZNAME:CEST
DTSTART:20250330T010000
END:DAYLIGHT
BEGIN:STANDARD
TZOFFSETFROM:+0200
TZOFFSETTO:+0100
TZNAME:CET
DTSTART:20251026T010000
END:STANDARD
END:VTIMEZONE
BEGIN:VEVENT
DTSTART;VALUE=DATE:20250601
DTEND;VALUE=DATE:20250602
DTSTAMP:20260422T021653
CREATED:20250526T110427Z
LAST-MODIFIED:20250526T110427Z
UID:3422-1748736000-1748822399@www.musikschule-wermelskirchen.de
SUMMARY:Das Fest am 01.06.2025
DESCRIPTION:Am  01.06.2025 öffnen wir die Türen der Musikschule und stellen uns im Rahmen des verkaufsoffenen Sonntages und der Veranstaltung „Das Fest“ vor. Es gibt neben vielen Infos einen Stand des neu gegründeten Fördervereins\, Kuchen\, Getränke\, einen Instrumentenflohmarkt und unsere Band „Dark Sunrise“ spielt um 15:00h und um 16:30h vor der Musikschule.
URL:https://www.musikschule-wermelskirchen.de/veranstaltungen/das-fest-am-01-06-2025/
END:VEVENT
END:VCALENDAR