BEGIN:VCALENDAR
VERSION:2.0
PRODID:-//Musikschule Wermelskirchen - ECPv6.8.3//NONSGML v1.0//EN
CALSCALE:GREGORIAN
METHOD:PUBLISH
X-ORIGINAL-URL:https://www.musikschule-wermelskirchen.de
X-WR-CALDESC:Veranstaltungen für Musikschule Wermelskirchen
REFRESH-INTERVAL;VALUE=DURATION:PT1H
X-Robots-Tag:noindex
X-PUBLISHED-TTL:PT1H
BEGIN:VTIMEZONE
TZID:Europe/Berlin
BEGIN:DAYLIGHT
TZOFFSETFROM:+0100
TZOFFSETTO:+0200
TZNAME:CEST
DTSTART:20250330T010000
END:DAYLIGHT
BEGIN:STANDARD
TZOFFSETFROM:+0200
TZOFFSETTO:+0100
TZNAME:CET
DTSTART:20251026T010000
END:STANDARD
END:VTIMEZONE
BEGIN:VEVENT
DTSTART;TZID=Europe/Berlin:20251201T090000
DTEND;TZID=Europe/Berlin:20251224T090000
DTSTAMP:20260421T160041
CREATED:20251211T082626Z
LAST-MODIFIED:20251211T082626Z
UID:3581-1764579600-1766566800@www.musikschule-wermelskirchen.de
SUMMARY:Adventskalender 2025
DESCRIPTION:Vom 01.12. bis 24.12.2025 öffnet sich täglich ein musikalisches Türchen unter: https://www.youtube.com/@musikschulewermelskirchene9531 \n  \n 
URL:https://www.musikschule-wermelskirchen.de/veranstaltungen/adventskalender-2025/
END:VEVENT
BEGIN:VEVENT
DTSTART;TZID=Europe/Berlin:20251218T150000
DTEND;TZID=Europe/Berlin:20251218T160000
DTSTAMP:20260421T160041
CREATED:20251211T114411Z
LAST-MODIFIED:20251211T114411Z
UID:3602-1766070000-1766073600@www.musikschule-wermelskirchen.de
SUMMARY:Weihnachtstour 2025
DESCRIPTION:Demenzwohngruppe
URL:https://www.musikschule-wermelskirchen.de/veranstaltungen/weihnachtstour-2025-2/
END:VEVENT
BEGIN:VEVENT
DTSTART;TZID=Europe/Berlin:20251218T163000
DTEND;TZID=Europe/Berlin:20251218T173000
DTSTAMP:20260421T160041
CREATED:20251211T114443Z
LAST-MODIFIED:20251211T114443Z
UID:3604-1766075400-1766079000@www.musikschule-wermelskirchen.de
SUMMARY:Weihnachtstour 2025
DESCRIPTION:Carpe Diem
URL:https://www.musikschule-wermelskirchen.de/veranstaltungen/weihnachtstour-2025-3/
END:VEVENT
END:VCALENDAR