BEGIN:VCALENDAR
VERSION:2.0
PRODID:-//Musikschule Wermelskirchen - ECPv6.8.3//NONSGML v1.0//EN
CALSCALE:GREGORIAN
METHOD:PUBLISH
X-ORIGINAL-URL:https://www.musikschule-wermelskirchen.de
X-WR-CALDESC:Veranstaltungen für Musikschule Wermelskirchen
REFRESH-INTERVAL;VALUE=DURATION:PT1H
X-Robots-Tag:noindex
X-PUBLISHED-TTL:PT1H
BEGIN:VTIMEZONE
TZID:Europe/Berlin
BEGIN:DAYLIGHT
TZOFFSETFROM:+0100
TZOFFSETTO:+0200
TZNAME:CEST
DTSTART:20240331T010000
END:DAYLIGHT
BEGIN:STANDARD
TZOFFSETFROM:+0200
TZOFFSETTO:+0100
TZNAME:CET
DTSTART:20241027T010000
END:STANDARD
BEGIN:DAYLIGHT
TZOFFSETFROM:+0100
TZOFFSETTO:+0200
TZNAME:CEST
DTSTART:20250330T010000
END:DAYLIGHT
BEGIN:STANDARD
TZOFFSETFROM:+0200
TZOFFSETTO:+0100
TZNAME:CET
DTSTART:20251026T010000
END:STANDARD
END:VTIMEZONE
BEGIN:VEVENT
DTSTART;TZID=Europe/Berlin:20241206T153000
DTEND;TZID=Europe/Berlin:20241206T170000
DTSTAMP:20260424T105814
CREATED:20241216T091729Z
LAST-MODIFIED:20241216T091729Z
UID:3270-1733499000-1733504400@www.musikschule-wermelskirchen.de
SUMMARY:Musikschule auf Tour
DESCRIPTION:Auftritt im Carpe Diem und in der Demenzwohngruppe
URL:https://www.musikschule-wermelskirchen.de/veranstaltungen/musikschule-auf-tour/
END:VEVENT
BEGIN:VEVENT
DTSTART;TZID=Europe/Berlin:20241209T153000
DTEND;TZID=Europe/Berlin:20241209T170000
DTSTAMP:20260424T105814
CREATED:20241216T091811Z
LAST-MODIFIED:20241216T091811Z
UID:3273-1733758200-1733763600@www.musikschule-wermelskirchen.de
SUMMARY:Musikschule auf Tour
DESCRIPTION:Auftritt im Haus Vogelsang
URL:https://www.musikschule-wermelskirchen.de/veranstaltungen/musikschule-auf-tour-2/
END:VEVENT
BEGIN:VEVENT
DTSTART;TZID=Europe/Berlin:20241220T170000
DTEND;TZID=Europe/Berlin:20241220T170000
DTSTAMP:20260424T105814
CREATED:20241210T093202Z
LAST-MODIFIED:20241210T102921Z
UID:3242-1734714000-1734714000@www.musikschule-wermelskirchen.de
SUMMARY:intern Adventsfeier Querflötenklasse
DESCRIPTION:
URL:https://www.musikschule-wermelskirchen.de/veranstaltungen/adventsfeier-querfloetenklasse/
LOCATION:Sitzungssaal Bürgerhäuser\, Eich 6-8\, Wermelskirchen
END:VEVENT
BEGIN:VEVENT
DTSTART;VALUE=DATE:20241223
DTEND;VALUE=DATE:20250107
DTSTAMP:20260424T105814
CREATED:20241210T111146Z
LAST-MODIFIED:20241210T112008Z
UID:3264-1734912000-1736207999@www.musikschule-wermelskirchen.de
SUMMARY:Weihnachtsferien
DESCRIPTION:
URL:https://www.musikschule-wermelskirchen.de/veranstaltungen/weihnachtsferien/
END:VEVENT
END:VCALENDAR